BEGIN:VCALENDAR
VERSION:2.0
PRODID:-//Sabre//Sabre VObject 4.5.8//EN
CALSCALE:GREGORIAN
BEGIN:VEVENT
UID:sabre-vobject-4eea47e8-e198-4270-a2d5-d6cc89de496d
DTSTAMP:20260421T063625Z
SUMMARY:Pickle Ball Nite at the Gym
DESCRIPTION:Join MWR for an evening of Pickle Ball at the TEAD MWR Physical
  Fitness Center!!!
X-ALT-DESC:FMTTYPE=text/html:<!DOCTYPE HTML PUBLIC "-//W3C//DTD HTML 3.2//E
 N"><HTML>Join MWR for an evening of Pickle Ball at the TEAD MWR Physical F
 itness Center!!!</HTML>
CREATED;TZID=America/Denver:20170913T134501
URL;VALUE=URI:https://tooele.armymwr.com/calendar/event
DTSTART;TZID=America/Denver:20160324T170000
DTEND;TZID=America/Denver:20160324T183000
SEQUENCE:0
END:VEVENT
END:VCALENDAR
